BEGIN:VCALENDAR
VERSION:2.0
PRODID:-//Gymbusy - ECPv6.15.20//NONSGML v1.0//EN
CALSCALE:GREGORIAN
METHOD:PUBLISH
X-WR-CALNAME:Gymbusy
X-ORIGINAL-URL:https://gymbusy.co.uk
X-WR-CALDESC:Events for Gymbusy
REFRESH-INTERVAL;VALUE=DURATION:PT1H
X-Robots-Tag:noindex
X-PUBLISHED-TTL:PT1H
BEGIN:VTIMEZONE
TZID:UTC
BEGIN:STANDARD
TZOFFSETFROM:+0000
TZOFFSETTO:+0000
TZNAME:UTC
DTSTART:20250101T000000
END:STANDARD
END:VTIMEZONE
BEGIN:VEVENT
DTSTART;TZID=UTC:20260914T080000
DTEND;TZID=UTC:20260920T170000
DTSTAMP:20260425T003030
CREATED:20260121T170726Z
LAST-MODIFIED:20260209T233042Z
UID:18463-1789372800-1789923600@gymbusy.co.uk
SUMMARY:Busy Retreats September 2026
DESCRIPTION:Get Ticket \n  \n\n\n7 DAYS. ONE UNFORGETTABLE RETREAT | September 2026\n\n\n\n\nWe’re back – bigger\, better\, and busier than ever.\n\nThis isn’t just a holiday. It’s your chance to reset\, recharge\, and reconnect on a whole new level.\n\nSet against the stunning backdrop of Playitas Resort\, our second retreat brings you:\n\n• One extra day of sunshine\, sweat\, and soul\n• More workouts\, more activities\, more fun\n• The perfect balance of fitness\, relaxation\, and community\n\nWhether you’re chasing PBs or just starting your wellness journey\, this retreat is designed to meet you where you are and take you further.\n\nStep away from the hustle. Step into an unforgettable 7-day escape.\n\nSpaces are limited – book now to see what we’ve levelled up for 2026 \n\n\n\n\nRETREAT DATES:\n\nRetreat Dates: Monday 14th – Sunday 20th September 2026\nFitness classes from: Tuesday 15th – Friday 18th September 2026
URL:https://gymbusy.co.uk/event/busy-retreats-september-2026/
LOCATION:Playitas Resort\, Playitas Resort - Las Playitas\, Fuerteventura\, canary Islands\, Las Playitas\, canary Islands\, United Kingdom
ATTACH;FMTTYPE=image/png:https://gymbusy.co.uk/wp-content/uploads/2026/01/BUSYRETREAT.png
ORGANIZER;CN="Gymbusy":MAILTO:gymbusyinfo@gmail.com
END:VEVENT
END:VCALENDAR